BEGIN:VCALENDAR
VERSION:2.0
PRODID:-//ESN UE Poznań - ECPv6.15.20//NONSGML v1.0//EN
CALSCALE:GREGORIAN
METHOD:PUBLISH
X-WR-CALNAME:ESN UE Poznań
X-ORIGINAL-URL:https://uepoznan.esn.pl
X-WR-CALDESC:Events for ESN UE Poznań
REFRESH-INTERVAL;VALUE=DURATION:PT1H
X-Robots-Tag:noindex
X-PUBLISHED-TTL:PT1H
BEGIN:VTIMEZONE
TZID:Europe/Warsaw
BEGIN:DAYLIGHT
TZOFFSETFROM:+0100
TZOFFSETTO:+0200
TZNAME:CEST
DTSTART:20250330T010000
END:DAYLIGHT
BEGIN:STANDARD
TZOFFSETFROM:+0200
TZOFFSETTO:+0100
TZNAME:CET
DTSTART:20251026T010000
END:STANDARD
BEGIN:DAYLIGHT
TZOFFSETFROM:+0100
TZOFFSETTO:+0200
TZNAME:CEST
DTSTART:20260329T010000
END:DAYLIGHT
BEGIN:STANDARD
TZOFFSETFROM:+0200
TZOFFSETTO:+0100
TZNAME:CET
DTSTART:20261025T010000
END:STANDARD
BEGIN:DAYLIGHT
TZOFFSETFROM:+0100
TZOFFSETTO:+0200
TZNAME:CEST
DTSTART:20270328T010000
END:DAYLIGHT
BEGIN:STANDARD
TZOFFSETFROM:+0200
TZOFFSETTO:+0100
TZNAME:CET
DTSTART:20271031T010000
END:STANDARD
END:VTIMEZONE
BEGIN:VEVENT
DTSTART;TZID=Europe/Warsaw:20260425T140000
DTEND;TZID=Europe/Warsaw:20260425T160000
DTSTAMP:20260425T122243
CREATED:20260421T234814Z
LAST-MODIFIED:20260421T234814Z
UID:52794-1777125600-1777132800@uepoznan.esn.pl
SUMMARY:Sports Day
DESCRIPTION:Sports Day at PUEB
URL:https://uepoznan.esn.pl/event/sports-day/
CATEGORIES:SPORTS
ATTACH;FMTTYPE=image/png:https://uepoznan.esn.pl/wp-content/uploads/2026/04/sports-collectifs-enfants-coupe-1024x512-1.png
END:VEVENT
END:VCALENDAR